############################################################################## ############################################################################## ### ### Running command: ### ### /home/rapidbuild/bbs-3.21-bioc-rapid/R/bin/R CMD build --keep-empty-dirs --no-resave-data SpatialExperiment ### ############################################################################## ############################################################################## * checking for file ‘SpatialExperiment/DESCRIPTION’ ... OK cp: error writing '/tmp/RtmppUbAjc/Rbuild2cf79667d5847b/SpatialExperiment/inst/extdata/10xVisium/section1/outs/spatial/tissue_lowres_image.png': No space left on device cp: error writing '/tmp/RtmppUbAjc/Rbuild2cf79667d5847b/SpatialExperiment/inst/extdata/10xVisium/section1/outs/spatial/tissue_positions_list.csv': No space left on device cp: cannot create directory '/tmp/RtmppUbAjc/Rbuild2cf79667d5847b/SpatialExperiment/inst/extdata/10xVisium/section2': No space left on device cp: error writing '/tmp/RtmppUbAjc/Rbuild2cf79667d5847b/SpatialExperiment/inst/extdata/README': No space left on device cp: error writing '/tmp/RtmppUbAjc/Rbuild2cf79667d5847b/SpatialExperiment/inst/CITATION': No space left on device cp: error writing '/tmp/RtmppUbAjc/Rbuild2cf79667d5847b/SpatialExperiment/inst/NEWS': No space left on device cp: cannot create directory '/tmp/RtmppUbAjc/Rbuild2cf79667d5847b/SpatialExperiment/man': No space left on device cp: cannot create directory '/tmp/RtmppUbAjc/Rbuild2cf79667d5847b/SpatialExperiment/tests': No space left on device cp: cannot create directory '/tmp/RtmppUbAjc/Rbuild2cf79667d5847b/SpatialExperiment/vignettes': No space left on device cp: error writing '/tmp/RtmppUbAjc/Rbuild2cf79667d5847b/SpatialExperiment/.Rbuildignore': No space left on device cp: error writing '/tmp/RtmppUbAjc/Rbuild2cf79667d5847b/SpatialExperiment/.gitignore': No space left on device cp: error writing '/tmp/RtmppUbAjc/Rbuild2cf79667d5847b/SpatialExperiment/NAMESPACE': No space left on device cp: error writing '/tmp/RtmppUbAjc/Rbuild2cf79667d5847b/SpatialExperiment/README.md': No space left on device ERROR copying to build directory failed