Package: SparseArray Version: 1.7.5 Command: /home/rapidbuild/bbs-3.21-bioc-rapid/R/bin/R CMD INSTALL SparseArray StartedAt: 2025-02-07 00:14:21 -0500 (Fri, 07 Feb 2025) EndedAt: 2025-02-07 00:14:53 -0500 (Fri, 07 Feb 2025) EllapsedTime: 32.7 seconds RetCode: 0 Status: OK