Package: SparseArray Version: 1.7.4 Command: /home/rapidbuild/bbs-3.21-bioc-rapid/R/bin/R CMD build --keep-empty-dirs --no-resave-data SparseArray StartedAt: 2025-02-01 13:32:32 -0500 (Sat, 01 Feb 2025) EndedAt: 2025-02-01 13:33:15 -0500 (Sat, 01 Feb 2025) EllapsedTime: 43.6 seconds RetCode: 0 Status: OK PackageFile: SparseArray_1.7.4.tar.gz PackageFileSize: 453.8 KiB