Package: ShortRead Version: 1.65.0 Command: /home/rapidbuild/bbs-3.21-bioc-rapid/R/bin/R CMD INSTALL ShortRead StartedAt: 2025-02-07 00:25:54 -0500 (Fri, 07 Feb 2025) EndedAt: 2025-02-07 00:26:37 -0500 (Fri, 07 Feb 2025) EllapsedTime: 43.3 seconds RetCode: 0 Status: OK