Package: ShortRead Version: 1.65.0 Command: /home/rapidbuild/bbs-3.21-bioc-rapid/R/bin/R CMD build --keep-empty-dirs --no-resave-data ShortRead StartedAt: 2025-02-07 01:37:32 -0500 (Fri, 07 Feb 2025) EndedAt: 2025-02-07 01:38:30 -0500 (Fri, 07 Feb 2025) EllapsedTime: 58.0 seconds RetCode: 0 Status: OK PackageFile: ShortRead_1.65.0.tar.gz PackageFileSize: 5.06 MiB