Package: SPIA Version: 2.59.2 Command: /home/rapidbuild/bbs-3.21-bioc-rapid/R/bin/R CMD check --install=check:SPIA.install-out.txt --library=/home/rapidbuild/bbs-3.21-bioc-rapid/R/site-library --timings SPIA_2.59.2.tar.gz StartedAt: 2025-02-07 03:42:16 -0500 (Fri, 07 Feb 2025) EndedAt: 2025-02-07 03:51:39 -0500 (Fri, 07 Feb 2025) EllapsedTime: 562.9 seconds RetCode: 0 Status: OK CheckDir: SPIA.Rcheck Warnings: 0