Package: SPIA Version: 2.59.2 Command: /home/rapidbuild/bbs-3.21-bioc-rapid/R/bin/R CMD build --keep-empty-dirs --no-resave-data SPIA StartedAt: 2025-02-07 01:40:41 -0500 (Fri, 07 Feb 2025) EndedAt: 2025-02-07 01:44:41 -0500 (Fri, 07 Feb 2025) EllapsedTime: 239.7 seconds RetCode: 0 Status: OK PackageFile: SPIA_2.59.2.tar.gz PackageFileSize: 2.549 MiB