Package: S4Vectors Version: 0.45.2 Command: /home/rapidbuild/bbs-3.21-bioc-rapid/R/bin/R CMD INSTALL S4Vectors StartedAt: 2025-01-31 06:11:30 -0500 (Fri, 31 Jan 2025) EndedAt: 2025-01-31 06:11:50 -0500 (Fri, 31 Jan 2025) EllapsedTime: 20.0 seconds RetCode: 0 Status: OK