Package: S4Arrays Version: 1.7.3 Command: /home/rapidbuild/bbs-3.21-bioc-rapid/R/bin/R CMD check --install=check:S4Arrays.install-out.txt --library=/home/rapidbuild/bbs-3.21-bioc-rapid/R/site-library --timings S4Arrays_1.7.3.tar.gz StartedAt: 2025-02-12 01:05:51 -0500 (Wed, 12 Feb 2025) EndedAt: 2025-02-12 01:05:54 -0500 (Wed, 12 Feb 2025) EllapsedTime: 3.0 seconds RetCode: 1 Status: ERROR CheckDir: S4Arrays.Rcheck Warnings: NA