Package: Rsubread Version: 2.21.1 Maintainer: Wei Shi , Yang Liao and Gordon K Smyth MaintainerEmail: smyth at wehi.edu.au git_url: https://git.bioconductor.org/packages/Rsubread git_branch: devel git_last_commit: ce7af90 git_last_commit_date: 2025-01-12 16:35:03 -0500 (Sun, 12 Jan 2025)