Package: Rsamtools Version: 2.23.1 Command: /home/rapidbuild/bbs-3.21-bioc-rapid/R/bin/R CMD check --install=check:Rsamtools.install-out.txt --library=/home/rapidbuild/bbs-3.21-bioc-rapid/R/site-library --timings Rsamtools_2.23.1.tar.gz StartedAt: 2025-01-31 09:18:06 -0500 (Fri, 31 Jan 2025) EndedAt: 2025-01-31 09:20:16 -0500 (Fri, 31 Jan 2025) EllapsedTime: 130.7 seconds RetCode: 0 Status: WARNINGS CheckDir: Rsamtools.Rcheck Warnings: 2