Package: Rsamtools Version: 2.23.1 Command: /home/rapidbuild/bbs-3.21-bioc-rapid/R/bin/R CMD build --keep-empty-dirs --no-resave-data Rsamtools StartedAt: 2025-01-31 07:31:27 -0500 (Fri, 31 Jan 2025) EndedAt: 2025-01-31 07:32:26 -0500 (Fri, 31 Jan 2025) EllapsedTime: 59.3 seconds RetCode: 0 Status: OK PackageFile: Rsamtools_2.23.1.tar.gz PackageFileSize: 2.783 MiB