Package: Rhtslib Version: 3.3.1 Command: /home/rapidbuild/bbs-3.21-bioc-rapid/R/bin/R CMD check --install=check:Rhtslib.install-out.txt --library=/home/rapidbuild/bbs-3.21-bioc-rapid/R/site-library --timings Rhtslib_3.3.1.tar.gz StartedAt: 2025-01-31 09:16:40 -0500 (Fri, 31 Jan 2025) EndedAt: 2025-01-31 09:16:53 -0500 (Fri, 31 Jan 2025) EllapsedTime: 13.0 seconds RetCode: 0 Status: OK CheckDir: Rhtslib.Rcheck Warnings: 0