Package: ReportingTools Version: 2.47.0 Command: /home/rapidbuild/bbs-3.21-bioc-rapid/R/bin/R CMD check --install=check:ReportingTools.install-out.txt --library=/home/rapidbuild/bbs-3.21-bioc-rapid/R/site-library --timings ReportingTools_2.47.0.tar.gz StartedAt: 2025-02-07 03:24:39 -0500 (Fri, 07 Feb 2025) EndedAt: 2025-02-07 03:24:43 -0500 (Fri, 07 Feb 2025) EllapsedTime: 4.0 seconds RetCode: 1 Status: ERROR CheckDir: ReportingTools.Rcheck Warnings: NA