############################################################################## ############################################################################## ### ### Running command: ### ### /home/rapidbuild/bbs-3.21-bioc-rapid/R/bin/R CMD build --keep-empty-dirs --no-resave-data ReportingTools ### ############################################################################## ############################################################################## * checking for file ‘ReportingTools/DESCRIPTION’ ... OK * preparing ‘ReportingTools’: * checking DESCRIPTION meta-information ... OK * installing the package to build vignettes ----------------------------------- * installing *source* package ‘ReportingTools’ ... ** this is package ‘ReportingTools’ version ‘2.47.0’ ** using staged installation ** R ** data ** inst ** byte-compile and prepare package for lazy loading in method for 'objectToHTML' with signature 'object="ggbio"': no definition for class "ggbio" Error in lazyLoadDBinsertVariable(vars[i], from, datafile, ascii, compress, : write failed Calls: ... code2LazyLoadDB -> makeLazyLoadDB -> lazyLoadDBinsertVariable Execution halted ERROR: lazy loading failed for package ‘ReportingTools’ * removing ‘/tmp/RtmppXWmIU/Rinst2cf122431dd4db/ReportingTools’ ----------------------------------- ERROR: package installation failed