Package: Rdisop Version: 1.67.5 Command: /home/rapidbuild/bbs-3.21-bioc-rapid/R/bin/R CMD INSTALL Rdisop StartedAt: 2025-01-31 06:07:11 -0500 (Fri, 31 Jan 2025) EndedAt: 2025-01-31 06:07:43 -0500 (Fri, 31 Jan 2025) EllapsedTime: 32.0 seconds RetCode: 0 Status: OK