Package: ROC Version: 1.83.0 Command: /home/rapidbuild/bbs-3.21-bioc-rapid/R/bin/R CMD check --install=check:ROC.install-out.txt --library=/home/rapidbuild/bbs-3.21-bioc-rapid/R/site-library --timings ROC_1.83.0.tar.gz StartedAt: 2025-01-31 09:16:54 -0500 (Fri, 31 Jan 2025) EndedAt: 2025-01-31 09:17:08 -0500 (Fri, 31 Jan 2025) EllapsedTime: 14.0 seconds RetCode: 0 Status: OK CheckDir: ROC.Rcheck Warnings: 0