Package: RBGL Version: 1.83.0 Command: /home/rapidbuild/bbs-3.21-bioc-rapid/R/bin/R CMD INSTALL RBGL StartedAt: 2025-01-31 06:11:08 -0500 (Fri, 31 Jan 2025) EndedAt: 2025-01-31 06:12:46 -0500 (Fri, 31 Jan 2025) EllapsedTime: 98.0 seconds RetCode: 0 Status: OK