Package: RBGL Version: 1.83.0 Command: /home/rapidbuild/bbs-3.21-bioc-rapid/R/bin/R CMD check --install=check:RBGL.install-out.txt --library=/home/rapidbuild/bbs-3.21-bioc-rapid/R/site-library --timings RBGL_1.83.0.tar.gz StartedAt: 2025-01-31 09:14:46 -0500 (Fri, 31 Jan 2025) EndedAt: 2025-01-31 09:15:32 -0500 (Fri, 31 Jan 2025) EllapsedTime: 46.9 seconds RetCode: 0 Status: WARNINGS CheckDir: RBGL.Rcheck Warnings: 1