Package: RBGL Version: 1.83.0 Command: /home/rapidbuild/bbs-3.21-bioc-rapid/R/bin/R CMD build --keep-empty-dirs --no-resave-data RBGL StartedAt: 2025-01-31 07:24:38 -0500 (Fri, 31 Jan 2025) EndedAt: 2025-01-31 07:26:23 -0500 (Fri, 31 Jan 2025) EllapsedTime: 105.3 seconds RetCode: 0 Status: OK PackageFile: RBGL_1.83.0.tar.gz PackageFileSize: 3.84 MiB