Package: QFeatures Version: 1.17.1 Command: /home/rapidbuild/bbs-3.21-bioc-rapid/R/bin/R CMD INSTALL QFeatures StartedAt: 2025-02-07 00:24:01 -0500 (Fri, 07 Feb 2025) EndedAt: 2025-02-07 00:24:29 -0500 (Fri, 07 Feb 2025) EllapsedTime: 27.7 seconds RetCode: 0 Status: OK