Package: QFeatures Version: 1.17.1 Command: /home/rapidbuild/bbs-3.21-bioc-rapid/R/bin/R CMD check --install=check:QFeatures.install-out.txt --library=/home/rapidbuild/bbs-3.21-bioc-rapid/R/site-library --timings QFeatures_1.17.1.tar.gz StartedAt: 2025-02-07 03:21:08 -0500 (Fri, 07 Feb 2025) EndedAt: 2025-02-07 03:28:45 -0500 (Fri, 07 Feb 2025) EllapsedTime: 457.2 seconds RetCode: 0 Status: OK CheckDir: QFeatures.Rcheck Warnings: 0