Package: QFeatures Version: 1.17.1 Command: /home/rapidbuild/bbs-3.21-bioc-rapid/R/bin/R CMD build --keep-empty-dirs --no-resave-data QFeatures StartedAt: 2025-01-31 07:23:27 -0500 (Fri, 31 Jan 2025) EndedAt: 2025-01-31 07:24:45 -0500 (Fri, 31 Jan 2025) EllapsedTime: 78.0 seconds RetCode: 0 Status: OK PackageFile: QFeatures_1.17.1.tar.gz PackageFileSize: 5.437 MiB