Package: ProtGenerics Version: 1.39.2 Command: /home/rapidbuild/bbs-3.21-bioc-rapid/R/bin/R CMD INSTALL ProtGenerics StartedAt: 2025-02-07 00:07:56 -0500 (Fri, 07 Feb 2025) EndedAt: 2025-02-07 00:07:59 -0500 (Fri, 07 Feb 2025) EllapsedTime: 3.0 seconds RetCode: 0 Status: OK