Package: ProtGenerics Version: 1.39.2 Command: /home/rapidbuild/bbs-3.21-bioc-rapid/R/bin/R CMD check --install=check:ProtGenerics.install-out.txt --library=/home/rapidbuild/bbs-3.21-bioc-rapid/R/site-library --timings ProtGenerics_1.39.2.tar.gz StartedAt: 2025-01-31 09:10:08 -0500 (Fri, 31 Jan 2025) EndedAt: 2025-01-31 09:10:23 -0500 (Fri, 31 Jan 2025) EllapsedTime: 15.0 seconds RetCode: 0 Status: OK CheckDir: ProtGenerics.Rcheck Warnings: 0