Package: PSMatch Version: 1.11.0 Command: /home/rapidbuild/bbs-3.21-bioc-rapid/R/bin/R CMD INSTALL PSMatch StartedAt: 2025-01-31 06:23:46 -0500 (Fri, 31 Jan 2025) EndedAt: 2025-01-31 06:24:12 -0500 (Fri, 31 Jan 2025) EllapsedTime: 26.7 seconds RetCode: 0 Status: OK