Package: PSMatch Version: 1.11.0 Command: /home/rapidbuild/bbs-3.21-bioc-rapid/R/bin/R CMD check --install=check:PSMatch.install-out.txt --library=/home/rapidbuild/bbs-3.21-bioc-rapid/R/site-library --timings PSMatch_1.11.0.tar.gz StartedAt: 2025-01-31 09:10:23 -0500 (Fri, 31 Jan 2025) EndedAt: 2025-01-31 09:14:45 -0500 (Fri, 31 Jan 2025) EllapsedTime: 262.3 seconds RetCode: 0 Status: OK CheckDir: PSMatch.Rcheck Warnings: 0