Package: MultiAssayExperiment Version: 1.33.9 Command: /home/rapidbuild/bbs-3.21-bioc-rapid/R/bin/R CMD check --install=check:MultiAssayExperiment.install-out.txt --library=/home/rapidbuild/bbs-3.21-bioc-rapid/R/site-library --timings MultiAssayExperiment_1.33.9.tar.gz StartedAt: 2025-01-31 09:04:28 -0500 (Fri, 31 Jan 2025) EndedAt: 2025-01-31 09:07:59 -0500 (Fri, 31 Jan 2025) EllapsedTime: 211.4 seconds RetCode: 0 Status: OK CheckDir: MultiAssayExperiment.Rcheck Warnings: 0