Package: MultiAssayExperiment Version: 1.33.9 Command: /home/rapidbuild/bbs-3.21-bioc-rapid/R/bin/R CMD build --keep-empty-dirs --no-resave-data MultiAssayExperiment StartedAt: 2025-01-31 07:16:17 -0500 (Fri, 31 Jan 2025) EndedAt: 2025-01-31 07:17:11 -0500 (Fri, 31 Jan 2025) EllapsedTime: 53.9 seconds RetCode: 0 Status: OK PackageFile: MultiAssayExperiment_1.33.9.tar.gz PackageFileSize: 1.168 MiB