Package: MultiAssayExperiment Version: 1.33.9 Maintainer: Marcel Ramos MaintainerEmail: marcel.ramos at sph.cuny.edu git_url: https://git.bioconductor.org/packages/MultiAssayExperiment git_branch: devel git_last_commit: 3128ca1 git_last_commit_date: 2025-01-28 18:08:36 -0500 (Tue, 28 Jan 2025)