Package: MsExperiment Version: 1.9.0 Command: /home/rapidbuild/bbs-3.21-bioc-rapid/R/bin/R CMD build --keep-empty-dirs --no-resave-data MsExperiment StartedAt: 2025-01-31 07:13:53 -0500 (Fri, 31 Jan 2025) EndedAt: 2025-01-31 07:14:51 -0500 (Fri, 31 Jan 2025) EllapsedTime: 58.0 seconds RetCode: 0 Status: OK PackageFile: MsExperiment_1.9.0.tar.gz PackageFileSize: 1.917 MiB