Package: MsBackendSql Version: 1.7.3 Command: /home/rapidbuild/bbs-3.21-bioc-rapid/R/bin/R CMD INSTALL MsBackendSql StartedAt: 2025-01-31 06:17:39 -0500 (Fri, 31 Jan 2025) EndedAt: 2025-01-31 06:17:51 -0500 (Fri, 31 Jan 2025) EllapsedTime: 11.9 seconds RetCode: 0 Status: OK