Package: MatrixGenerics Version: 1.19.1 Command: /home/rapidbuild/bbs-3.21-bioc-rapid/R/bin/R CMD INSTALL MatrixGenerics StartedAt: 2025-01-31 06:06:08 -0500 (Fri, 31 Jan 2025) EndedAt: 2025-01-31 06:06:12 -0500 (Fri, 31 Jan 2025) EllapsedTime: 4.0 seconds RetCode: 0 Status: OK