Package: MSnbase Version: 2.33.2 Command: /home/rapidbuild/bbs-3.21-bioc-rapid/R/bin/R CMD build --keep-empty-dirs --no-resave-data MSnbase StartedAt: 2025-01-31 07:15:25 -0500 (Fri, 31 Jan 2025) EndedAt: 2025-01-31 07:18:07 -0500 (Fri, 31 Jan 2025) EllapsedTime: 161.9 seconds RetCode: 0 Status: OK PackageFile: MSnbase_2.33.2.tar.gz PackageFileSize: 6.241 MiB