Package: LoomExperiment Version: 1.25.0 Command: /home/rapidbuild/bbs-3.21-bioc-rapid/R/bin/R CMD INSTALL LoomExperiment StartedAt: 2025-01-31 06:19:30 -0500 (Fri, 31 Jan 2025) EndedAt: 2025-01-31 06:19:58 -0500 (Fri, 31 Jan 2025) EllapsedTime: 27.7 seconds RetCode: 0 Status: OK