Package: KEGGREST Version: 1.47.0 Command: /home/rapidbuild/bbs-3.21-bioc-rapid/R/bin/R CMD build --keep-empty-dirs --no-resave-data KEGGREST StartedAt: 2025-02-07 01:09:09 -0500 (Fri, 07 Feb 2025) EndedAt: 2025-02-07 01:09:39 -0500 (Fri, 07 Feb 2025) EllapsedTime: 30.7 seconds RetCode: 0 Status: OK PackageFile: KEGGREST_1.47.0.tar.gz PackageFileSize: 233.5 KiB