Package: IRanges Version: 2.41.2 Command: /home/rapidbuild/bbs-3.21-bioc-rapid/R/bin/R CMD build --keep-empty-dirs --no-resave-data IRanges StartedAt: 2025-01-31 07:06:21 -0500 (Fri, 31 Jan 2025) EndedAt: 2025-01-31 07:07:19 -0500 (Fri, 31 Jan 2025) EllapsedTime: 58.3 seconds RetCode: 0 Status: OK PackageFile: IRanges_2.41.2.tar.gz PackageFileSize: 470.4 KiB