Package: IHW Version: 1.35.0 Command: /home/rapidbuild/bbs-3.21-bioc-rapid/R/bin/R CMD INSTALL IHW StartedAt: 2025-02-07 00:13:22 -0500 (Fri, 07 Feb 2025) EndedAt: 2025-02-07 00:13:26 -0500 (Fri, 07 Feb 2025) EllapsedTime: 4.2 seconds RetCode: 0 Status: OK