Package: HubPub Version: 1.15.3 Command: /home/rapidbuild/bbs-3.21-bioc-rapid/R/bin/R CMD INSTALL HubPub StartedAt: 2025-01-31 06:18:03 -0500 (Fri, 31 Jan 2025) EndedAt: 2025-01-31 06:18:07 -0500 (Fri, 31 Jan 2025) EllapsedTime: 4.2 seconds RetCode: 0 Status: OK