Package: HubPub Version: 1.15.3 Command: /home/rapidbuild/bbs-3.21-bioc-rapid/R/bin/R CMD check --install=check:HubPub.install-out.txt --library=/home/rapidbuild/bbs-3.21-bioc-rapid/R/site-library --timings HubPub_1.15.3.tar.gz StartedAt: 2025-01-31 08:53:28 -0500 (Fri, 31 Jan 2025) EndedAt: 2025-01-31 08:55:02 -0500 (Fri, 31 Jan 2025) EllapsedTime: 94.3 seconds RetCode: 0 Status: OK CheckDir: HubPub.Rcheck Warnings: 0