Package: HDF5Array Version: 1.35.12 Command: /home/rapidbuild/bbs-3.21-bioc-rapid/R/bin/R CMD INSTALL HDF5Array StartedAt: 2025-02-12 06:11:16 -0500 (Wed, 12 Feb 2025) EndedAt: 2025-02-12 06:11:34 -0500 (Wed, 12 Feb 2025) EllapsedTime: 17.8 seconds RetCode: 0 Status: OK