Package: HDF5Array Version: 1.35.12 Maintainer: Hervé Pagès MaintainerEmail: hpages.on.github at gmail.com git_url: https://git.bioconductor.org/packages/HDF5Array git_branch: devel git_last_commit: 7a75d6f git_last_commit_date: 2025-02-06 11:26:23 -0500 (Thu, 06 Feb 2025)