Package: GenomicRanges Version: 1.59.1 Command: /home/rapidbuild/bbs-3.21-bioc-rapid/R/bin/R CMD INSTALL GenomicRanges StartedAt: 2025-02-12 06:08:20 -0500 (Wed, 12 Feb 2025) EndedAt: 2025-02-12 06:08:36 -0500 (Wed, 12 Feb 2025) EllapsedTime: 16.0 seconds RetCode: 0 Status: OK