Package: GenomicRanges Version: 1.59.1 Command: /home/rapidbuild/bbs-3.21-bioc-rapid/R/bin/R CMD build --keep-empty-dirs --no-resave-data GenomicRanges StartedAt: 2025-02-07 00:57:45 -0500 (Fri, 07 Feb 2025) EndedAt: 2025-02-07 01:00:31 -0500 (Fri, 07 Feb 2025) EllapsedTime: 166.3 seconds RetCode: 0 Status: OK PackageFile: GenomicRanges_1.59.1.tar.gz PackageFileSize: 1.309 MiB