Package: GenomicFeatures Version: 1.59.1 Command: /home/rapidbuild/bbs-3.21-bioc-rapid/R/bin/R CMD INSTALL GenomicFeatures StartedAt: 2025-01-31 06:25:18 -0500 (Fri, 31 Jan 2025) EndedAt: 2025-01-31 06:25:53 -0500 (Fri, 31 Jan 2025) EllapsedTime: 34.7 seconds RetCode: 0 Status: OK