Package: GenomicAlignments Version: 1.43.0 Command: /home/rapidbuild/bbs-3.21-bioc-rapid/R/bin/R CMD INSTALL GenomicAlignments StartedAt: 2025-01-31 06:23:53 -0500 (Fri, 31 Jan 2025) EndedAt: 2025-01-31 06:24:26 -0500 (Fri, 31 Jan 2025) EllapsedTime: 32.5 seconds RetCode: 0 Status: OK