Package: GSVA Version: 2.1.5 Command: /home/rapidbuild/bbs-3.21-bioc-rapid/R/bin/R CMD INSTALL GSVA StartedAt: 2025-02-07 00:26:39 -0500 (Fri, 07 Feb 2025) EndedAt: 2025-02-07 00:27:15 -0500 (Fri, 07 Feb 2025) EllapsedTime: 35.6 seconds RetCode: 0 Status: OK