Package: GSVA Version: 2.1.5 Command: /home/rapidbuild/bbs-3.21-bioc-rapid/R/bin/R CMD check --install=check:GSVA.install-out.txt --library=/home/rapidbuild/bbs-3.21-bioc-rapid/R/site-library --timings GSVA_2.1.5.tar.gz StartedAt: 2025-02-11 20:43:02 -0500 (Tue, 11 Feb 2025) EndedAt: 2025-02-11 20:49:59 -0500 (Tue, 11 Feb 2025) EllapsedTime: 417.3 seconds RetCode: 1 Status: ERROR CheckDir: GSVA.Rcheck Warnings: NA