Package: GSVA Version: 2.1.5 Command: /home/rapidbuild/bbs-3.21-bioc-rapid/R/bin/R CMD build --keep-empty-dirs --no-resave-data GSVA StartedAt: 2025-02-07 01:02:05 -0500 (Fri, 07 Feb 2025) EndedAt: 2025-02-07 01:03:46 -0500 (Fri, 07 Feb 2025) EllapsedTime: 101.3 seconds RetCode: 0 Status: OK PackageFile: GSVA_2.1.5.tar.gz PackageFileSize: 2.421 MiB