Package: GOstats Version: 2.73.0 Command: /home/rapidbuild/bbs-3.21-bioc-rapid/R/bin/R CMD build --keep-empty-dirs --no-resave-data GOstats StartedAt: 2025-02-01 12:54:26 -0500 (Sat, 01 Feb 2025) EndedAt: 2025-02-01 13:03:45 -0500 (Sat, 01 Feb 2025) EllapsedTime: 559.5 seconds RetCode: 0 Status: OK PackageFile: GOstats_2.73.0.tar.gz PackageFileSize: 3.533 MiB